<?xml version="1.0" encoding="UTF-8"?>
<Capabilities xmlns="http://www.opengis.net/wmts/1.0"
	xmlns:ows="http://www.opengis.net/ows/1.1"
	xmlns:xlink="http://www.w3.org/1999/xlink"
	xmlns:xsi="http://www.w3.org/2001/XMLSchema-instance"
	xmlns:gml="http://www.opengis.net/gml"
	xsi:schemaLocation="http://www.opengis.net/wmts/1.0 http://schemas.opengis.net/wmts/1.0/wmtsGetCapabilities_response.xsd"
	version="1.0.0">
  <!-- Service Identification --> 
 <ows:ServiceIdentification>
	<ows:Title>Municipalities_Basemap</ows:Title>
	<ows:ServiceType>OGC WMTS</ows:ServiceType>
	<ows:ServiceTypeVersion>1.0.0</ows:ServiceTypeVersion>
</ows:ServiceIdentification> <!-- Operations Metadata --> <ows:OperationsMetadata>
	<ows:Operation name="GetCapabilities">
		<ows:DCP>
			<ows:HTTP>
				<ows:Get xlink:href="https://gis.berriencountymi.gov/server/rest/services/Municipalities_Basemap/MapServer/WMTS/1.0.0/WMTSCapabilities.xml">
					<ows:Constraint name="GetEncoding">
						<ows:AllowedValues>
							<ows:Value>RESTful</ows:Value>
						</ows:AllowedValues>
					</ows:Constraint>
				</ows:Get>
                <!-- add KVP binding in 10.1 -->
                <ows:Get xlink:href="https://gis.berriencountymi.gov/server/rest/services/Municipalities_Basemap/MapServer/WMTS?">
                  <ows:Constraint name="GetEncoding">
                    <ows:AllowedValues>
                      <ows:Value>KVP</ows:Value>
                    </ows:AllowedValues>
                  </ows:Constraint>
                </ows:Get>
    		</ows:HTTP>
    </ows:DCP>
	</ows:Operation>
	<ows:Operation name="GetTile">
		<ows:DCP>
			<ows:HTTP>
				<ows:Get xlink:href="https://gis.berriencountymi.gov/server/rest/services/Municipalities_Basemap/MapServer/WMTS/tile/1.0.0/">
					<ows:Constraint name="GetEncoding">
						<ows:AllowedValues>
							<ows:Value>RESTful</ows:Value>
						</ows:AllowedValues>
					</ows:Constraint>
				</ows:Get>
                <ows:Get xlink:href="https://gis.berriencountymi.gov/server/rest/services/Municipalities_Basemap/MapServer/WMTS?">
                  <ows:Constraint name="GetEncoding">
                    <ows:AllowedValues>
                      <ows:Value>KVP</ows:Value>
                    </ows:AllowedValues>
                  </ows:Constraint>
                </ows:Get>
            </ows:HTTP>
		</ows:DCP>
	</ows:Operation>
</ows:OperationsMetadata> 
<Contents>
  <!--Layer-->  
  <Layer>
    <ows:Title>Municipalities_Basemap</ows:Title> 
    <ows:Identifier>Municipalities_Basemap</ows:Identifier>
    <ows:BoundingBox crs="urn:ogc:def:crs:EPSG::6499">
	  <ows:LowerCorner>1.2396539864969948E7 91573.19729462867</ows:LowerCorner>
			<ows:UpperCorner>1.2676546168494632E7 286121.57698357996</ows:UpperCorner>
		</ows:BoundingBox>  
      <ows:WGS84BoundingBox crs="urn:ogc:def:crs:OGC:2:84">
      <ows:LowerCorner>-87.05178893515719 41.71974043228107</ows:LowerCorner>
      <ows:UpperCorner>-86.00372311412501 42.273106814766116</ows:UpperCorner>
    </ows:WGS84BoundingBox>
    <Style isDefault="true">
      <ows:Title>Default Style</ows:Title>
      <ows:Identifier>default</ows:Identifier>
    </Style>
    <Format>image/png</Format>
    <TileMatrixSetLink>
      <TileMatrixSet>default028mm</TileMatrixSet>
    </TileMatrixSetLink>
      <ResourceURL format="image/png" resourceType="tile" template="https://gis.berriencountymi.gov/server/rest/services/Municipalities_Basemap/MapServer/WMTS/tile/1.0.0/Municipalities_Basemap/{Style}/{TileMatrixSet}/{TileMatrix}/{TileRow}/{TileCol}.png" />
  </Layer> 
   <!--TileMatrixSet-->
   <TileMatrixSet>
     <ows:Title>TileMatrix using 0.28mm</ows:Title>
     <ows:Abstract>The tile matrix set that has scale values calculated based on the dpi defined by OGC specification (dpi assumes 0.28mm as the physical distance of a pixel).</ows:Abstract> 
     <ows:Identifier>default028mm</ows:Identifier>
     <ows:SupportedCRS>urn:ogc:def:crs:EPSG::6499</ows:SupportedCRS>
      <TileMatrix>
          <ows:Identifier>0</ows:Identifier>
          <ScaleDenominator>1.0227600758022038E9</ScaleDenominator>
          <TopLeftCorner>-1.0713819264027426E8 1.1550296244102809E8</TopLeftCorner>  
          <TileWidth>256</TileWidth> 
          <TileHeight>256</TileHeight>
          <MatrixWidth>1</MatrixWidth> 
            <MatrixHeight>1</MatrixHeight>
          </TileMatrix>
          <TileMatrix>
          <ows:Identifier>1</ows:Identifier>
          <ScaleDenominator>5.113800379011019E8</ScaleDenominator>
          <TopLeftCorner>-1.0713819264027426E8 1.1550296244102809E8</TopLeftCorner>  
          <TileWidth>256</TileWidth> 
          <TileHeight>256</TileHeight>
          <MatrixWidth>1</MatrixWidth> 
            <MatrixHeight>1</MatrixHeight>
          </TileMatrix>
          <TileMatrix>
          <ows:Identifier>2</ows:Identifier>
          <ScaleDenominator>2.5569001895055094E8</ScaleDenominator>
          <TopLeftCorner>-1.0713819264027426E8 1.1550296244102809E8</TopLeftCorner>  
          <TileWidth>256</TileWidth> 
          <TileHeight>256</TileHeight>
          <MatrixWidth>2</MatrixWidth> 
            <MatrixHeight>2</MatrixHeight>
          </TileMatrix>
          <TileMatrix>
          <ows:Identifier>3</ows:Identifier>
          <ScaleDenominator>1.2784500947527547E8</ScaleDenominator>
          <TopLeftCorner>-1.0713819264027426E8 1.1550296244102809E8</TopLeftCorner>  
          <TileWidth>256</TileWidth> 
          <TileHeight>256</TileHeight>
          <MatrixWidth>4</MatrixWidth> 
            <MatrixHeight>4</MatrixHeight>
          </TileMatrix>
          <TileMatrix>
          <ows:Identifier>4</ows:Identifier>
          <ScaleDenominator>6.3922504737637736E7</ScaleDenominator>
          <TopLeftCorner>-1.0713819264027426E8 1.1550296244102809E8</TopLeftCorner>  
          <TileWidth>256</TileWidth> 
          <TileHeight>256</TileHeight>
          <MatrixWidth>8</MatrixWidth> 
            <MatrixHeight>8</MatrixHeight>
          </TileMatrix>
          <TileMatrix>
          <ows:Identifier>5</ows:Identifier>
          <ScaleDenominator>3.1961252368818868E7</ScaleDenominator>
          <TopLeftCorner>-1.0713819264027426E8 1.1550296244102809E8</TopLeftCorner>  
          <TileWidth>256</TileWidth> 
          <TileHeight>256</TileHeight>
          <MatrixWidth>16</MatrixWidth> 
            <MatrixHeight>16</MatrixHeight>
          </TileMatrix>
          <TileMatrix>
          <ows:Identifier>6</ows:Identifier>
          <ScaleDenominator>1.5980626184409434E7</ScaleDenominator>
          <TopLeftCorner>-1.0713819264027426E8 1.1550296244102809E8</TopLeftCorner>  
          <TileWidth>256</TileWidth> 
          <TileHeight>256</TileHeight>
          <MatrixWidth>32</MatrixWidth> 
            <MatrixHeight>31</MatrixHeight>
          </TileMatrix>
          <TileMatrix>
          <ows:Identifier>7</ows:Identifier>
          <ScaleDenominator>7990313.092204717</ScaleDenominator>
          <TopLeftCorner>-1.0713819264027426E8 1.1550296244102809E8</TopLeftCorner>  
          <TileWidth>256</TileWidth> 
          <TileHeight>256</TileHeight>
          <MatrixWidth>64</MatrixWidth> 
            <MatrixHeight>62</MatrixHeight>
          </TileMatrix>
          <TileMatrix>
          <ows:Identifier>8</ows:Identifier>
          <ScaleDenominator>3995156.5461023585</ScaleDenominator>
          <TopLeftCorner>-1.0713819264027426E8 1.1550296244102809E8</TopLeftCorner>  
          <TileWidth>256</TileWidth> 
          <TileHeight>256</TileHeight>
          <MatrixWidth>128</MatrixWidth> 
            <MatrixHeight>123</MatrixHeight>
          </TileMatrix>
          <TileMatrix>
          <ows:Identifier>9</ows:Identifier>
          <ScaleDenominator>1997578.2730511792</ScaleDenominator>
          <TopLeftCorner>-1.0713819264027426E8 1.1550296244102809E8</TopLeftCorner>  
          <TileWidth>256</TileWidth> 
          <TileHeight>256</TileHeight>
          <MatrixWidth>256</MatrixWidth> 
            <MatrixHeight>246</MatrixHeight>
          </TileMatrix>
          <TileMatrix>
          <ows:Identifier>10</ows:Identifier>
          <ScaleDenominator>998789.1365255896</ScaleDenominator>
          <TopLeftCorner>-1.0713819264027426E8 1.1550296244102809E8</TopLeftCorner>  
          <TileWidth>256</TileWidth> 
          <TileHeight>256</TileHeight>
          <MatrixWidth>511</MatrixWidth> 
            <MatrixHeight>492</MatrixHeight>
          </TileMatrix>
          <TileMatrix>
          <ows:Identifier>11</ows:Identifier>
          <ScaleDenominator>499394.5682627948</ScaleDenominator>
          <TopLeftCorner>-1.0713819264027426E8 1.1550296244102809E8</TopLeftCorner>  
          <TileWidth>256</TileWidth> 
          <TileHeight>256</TileHeight>
          <MatrixWidth>1021</MatrixWidth> 
            <MatrixHeight>983</MatrixHeight>
          </TileMatrix>
          <TileMatrix>
          <ows:Identifier>12</ows:Identifier>
          <ScaleDenominator>249697.2841313974</ScaleDenominator>
          <TopLeftCorner>-1.0713819264027426E8 1.1550296244102809E8</TopLeftCorner>  
          <TileWidth>256</TileWidth> 
          <TileHeight>256</TileHeight>
          <MatrixWidth>2041</MatrixWidth> 
            <MatrixHeight>1966</MatrixHeight>
          </TileMatrix>
          <TileMatrix>
          <ows:Identifier>13</ows:Identifier>
          <ScaleDenominator>124848.6420656987</ScaleDenominator>
          <TopLeftCorner>-1.0713819264027426E8 1.1550296244102809E8</TopLeftCorner>  
          <TileWidth>256</TileWidth> 
          <TileHeight>256</TileHeight>
          <MatrixWidth>4081</MatrixWidth> 
            <MatrixHeight>3931</MatrixHeight>
          </TileMatrix>
          <TileMatrix>
          <ows:Identifier>14</ows:Identifier>
          <ScaleDenominator>62424.32103284935</ScaleDenominator>
          <TopLeftCorner>-1.0713819264027426E8 1.1550296244102809E8</TopLeftCorner>  
          <TileWidth>256</TileWidth> 
          <TileHeight>256</TileHeight>
          <MatrixWidth>8162</MatrixWidth> 
            <MatrixHeight>7862</MatrixHeight>
          </TileMatrix>
          <TileMatrix>
          <ows:Identifier>15</ows:Identifier>
          <ScaleDenominator>31212.160516424676</ScaleDenominator>
          <TopLeftCorner>-1.0713819264027426E8 1.1550296244102809E8</TopLeftCorner>  
          <TileWidth>256</TileWidth> 
          <TileHeight>256</TileHeight>
          <MatrixWidth>16324</MatrixWidth> 
            <MatrixHeight>15724</MatrixHeight>
          </TileMatrix>
          <TileMatrix>
          <ows:Identifier>16</ows:Identifier>
          <ScaleDenominator>15606.080258212338</ScaleDenominator>
          <TopLeftCorner>-1.0713819264027426E8 1.1550296244102809E8</TopLeftCorner>  
          <TileWidth>256</TileWidth> 
          <TileHeight>256</TileHeight>
          <MatrixWidth>32647</MatrixWidth> 
            <MatrixHeight>31447</MatrixHeight>
          </TileMatrix>
          <TileMatrix>
          <ows:Identifier>17</ows:Identifier>
          <ScaleDenominator>7803.040129106169</ScaleDenominator>
          <TopLeftCorner>-1.0713819264027426E8 1.1550296244102809E8</TopLeftCorner>  
          <TileWidth>256</TileWidth> 
          <TileHeight>256</TileHeight>
          <MatrixWidth>65293</MatrixWidth> 
            <MatrixHeight>62893</MatrixHeight>
          </TileMatrix>
          <TileMatrix>
          <ows:Identifier>18</ows:Identifier>
          <ScaleDenominator>3901.5200645530845</ScaleDenominator>
          <TopLeftCorner>-1.0713819264027426E8 1.1550296244102809E8</TopLeftCorner>  
          <TileWidth>256</TileWidth> 
          <TileHeight>256</TileHeight>
          <MatrixWidth>130586</MatrixWidth> 
            <MatrixHeight>125786</MatrixHeight>
          </TileMatrix>
          <TileMatrix>
          <ows:Identifier>19</ows:Identifier>
          <ScaleDenominator>1950.7600322765422</ScaleDenominator>
          <TopLeftCorner>-1.0713819264027426E8 1.1550296244102809E8</TopLeftCorner>  
          <TileWidth>256</TileWidth> 
          <TileHeight>256</TileHeight>
          <MatrixWidth>261171</MatrixWidth> 
            <MatrixHeight>251572</MatrixHeight>
          </TileMatrix>
          <TileMatrix>
          <ows:Identifier>20</ows:Identifier>
          <ScaleDenominator>975.3800161382711</ScaleDenominator>
          <TopLeftCorner>-1.0713819264027426E8 1.1550296244102809E8</TopLeftCorner>  
          <TileWidth>256</TileWidth> 
          <TileHeight>256</TileHeight>
          <MatrixWidth>522341</MatrixWidth> 
            <MatrixHeight>503144</MatrixHeight>
          </TileMatrix>
          <TileMatrix>
          <ows:Identifier>21</ows:Identifier>
          <ScaleDenominator>487.69000806913556</ScaleDenominator>
          <TopLeftCorner>-1.0713819264027426E8 1.1550296244102809E8</TopLeftCorner>  
          <TileWidth>256</TileWidth> 
          <TileHeight>256</TileHeight>
          <MatrixWidth>1044681</MatrixWidth> 
            <MatrixHeight>1006287</MatrixHeight>
          </TileMatrix>
          <TileMatrix>
          <ows:Identifier>22</ows:Identifier>
          <ScaleDenominator>243.84500403456778</ScaleDenominator>
          <TopLeftCorner>-1.0713819264027426E8 1.1550296244102809E8</TopLeftCorner>  
          <TileWidth>256</TileWidth> 
          <TileHeight>256</TileHeight>
          <MatrixWidth>2089361</MatrixWidth> 
            <MatrixHeight>2012574</MatrixHeight>
          </TileMatrix>
          <TileMatrix>
          <ows:Identifier>23</ows:Identifier>
          <ScaleDenominator>121.92250201728389</ScaleDenominator>
          <TopLeftCorner>-1.0713819264027426E8 1.1550296244102809E8</TopLeftCorner>  
          <TileWidth>256</TileWidth> 
          <TileHeight>256</TileHeight>
          <MatrixWidth>4178721</MatrixWidth> 
            <MatrixHeight>4025148</MatrixHeight>
          </TileMatrix>
          </TileMatrixSet>
   </Contents>
<ServiceMetadataURL xlink:href="https://gis.berriencountymi.gov/server/rest/services/Municipalities_Basemap/MapServer/WMTS/1.0.0/WMTSCapabilities.xml" /> 
</Capabilities>
